BEGIN:VCALENDAR
VERSION:2.0
PRODID:-//Children&#039;s Museum of South Dakota - ECPv6.15.17.1//NONSGML v1.0//EN
CALSCALE:GREGORIAN
METHOD:PUBLISH
X-WR-CALNAME:Children&#039;s Museum of South Dakota
X-ORIGINAL-URL:https://prairieplay.org
X-WR-CALDESC:Events for Children&#039;s Museum of South Dakota
REFRESH-INTERVAL;VALUE=DURATION:PT1H
X-Robots-Tag:noindex
X-PUBLISHED-TTL:PT1H
BEGIN:VTIMEZONE
TZID:America/Chicago
BEGIN:DAYLIGHT
TZOFFSETFROM:-0600
TZOFFSETTO:-0500
TZNAME:CDT
DTSTART:20220313T080000
END:DAYLIGHT
BEGIN:STANDARD
TZOFFSETFROM:-0500
TZOFFSETTO:-0600
TZNAME:CST
DTSTART:20221106T070000
END:STANDARD
BEGIN:DAYLIGHT
TZOFFSETFROM:-0600
TZOFFSETTO:-0500
TZNAME:CDT
DTSTART:20230312T080000
END:DAYLIGHT
BEGIN:STANDARD
TZOFFSETFROM:-0500
TZOFFSETTO:-0600
TZNAME:CST
DTSTART:20231105T070000
END:STANDARD
BEGIN:DAYLIGHT
TZOFFSETFROM:-0600
TZOFFSETTO:-0500
TZNAME:CDT
DTSTART:20240310T080000
END:DAYLIGHT
BEGIN:STANDARD
TZOFFSETFROM:-0500
TZOFFSETTO:-0600
TZNAME:CST
DTSTART:20241103T070000
END:STANDARD
END:VTIMEZONE
BEGIN:VEVENT
DTSTART;TZID=America/Chicago:20230922T120000
DTEND;TZID=America/Chicago:20230922T150000
DTSTAMP:20260422T061136
CREATED:20230824T180959Z
LAST-MODIFIED:20230824T181023Z
UID:16362-1695384000-1695394800@prairieplay.org
SUMMARY:Playful Preschoolers
DESCRIPTION:Playful Preschoolers classes offer an opportunity to connect with new friends\, explore new interests\, and build new skills. Classes are hands-on and child-led. Play along!
URL:https://prairieplay.org/event/playful-preschoolers-6-3/
CATEGORIES:Camps,Preschool
ATTACH;FMTTYPE=image/jpeg:https://prairieplay.org/wp-content/uploads/2020/03/playfulpreschoolers-carousel.jpg
END:VEVENT
END:VCALENDAR