BEGIN:VCALENDAR
VERSION:2.0
PRODID:-//Children&#039;s Museum of South Dakota - ECPv6.15.17.1//NONSGML v1.0//EN
CALSCALE:GREGORIAN
METHOD:PUBLISH
X-WR-CALNAME:Children&#039;s Museum of South Dakota
X-ORIGINAL-URL:https://prairieplay.org
X-WR-CALDESC:Events for Children&#039;s Museum of South Dakota
REFRESH-INTERVAL;VALUE=DURATION:PT1H
X-Robots-Tag:noindex
X-PUBLISHED-TTL:PT1H
BEGIN:VTIMEZONE
TZID:America/Chicago
BEGIN:DAYLIGHT
TZOFFSETFROM:-0600
TZOFFSETTO:-0500
TZNAME:CDT
DTSTART:20250309T080000
END:DAYLIGHT
BEGIN:STANDARD
TZOFFSETFROM:-0500
TZOFFSETTO:-0600
TZNAME:CST
DTSTART:20251102T070000
END:STANDARD
BEGIN:DAYLIGHT
TZOFFSETFROM:-0600
TZOFFSETTO:-0500
TZNAME:CDT
DTSTART:20260308T080000
END:DAYLIGHT
BEGIN:STANDARD
TZOFFSETFROM:-0500
TZOFFSETTO:-0600
TZNAME:CST
DTSTART:20261101T070000
END:STANDARD
BEGIN:DAYLIGHT
TZOFFSETFROM:-0600
TZOFFSETTO:-0500
TZNAME:CDT
DTSTART:20270314T080000
END:DAYLIGHT
BEGIN:STANDARD
TZOFFSETFROM:-0500
TZOFFSETTO:-0600
TZNAME:CST
DTSTART:20271107T070000
END:STANDARD
END:VTIMEZONE
BEGIN:VEVENT
DTSTART;TZID=America/Chicago:20260615T100000
DTEND;TZID=America/Chicago:20260615T170000
DTSTAMP:20260421T042610
CREATED:20260330T202513Z
LAST-MODIFIED:20260330T202513Z
UID:22488-1781517600-1781542800@prairieplay.org
SUMMARY:Monday Play Day
DESCRIPTION:Play a little extra this summer! \nThe Museum and Cafe will be open on 3 special Mondays: \n\nJune 15\nJuly 20\nAugust 17
URL:https://prairieplay.org/event/monday-play-day/
CATEGORIES:Family
ATTACH;FMTTYPE=image/jpeg:https://prairieplay.org/wp-content/uploads/2026/03/monday-play-day_purple_carousel.jpg
END:VEVENT
END:VCALENDAR