BEGIN:VCALENDAR
VERSION:2.0
PRODID:-//Children&#039;s Museum of South Dakota - ECPv6.15.17.1//NONSGML v1.0//EN
CALSCALE:GREGORIAN
METHOD:PUBLISH
X-WR-CALNAME:Children&#039;s Museum of South Dakota
X-ORIGINAL-URL:https://prairieplay.org
X-WR-CALDESC:Events for Children&#039;s Museum of South Dakota
REFRESH-INTERVAL;VALUE=DURATION:PT1H
X-Robots-Tag:noindex
X-PUBLISHED-TTL:PT1H
BEGIN:VTIMEZONE
TZID:America/Chicago
BEGIN:DAYLIGHT
TZOFFSETFROM:-0600
TZOFFSETTO:-0500
TZNAME:CDT
DTSTART:20250309T080000
END:DAYLIGHT
BEGIN:STANDARD
TZOFFSETFROM:-0500
TZOFFSETTO:-0600
TZNAME:CST
DTSTART:20251102T070000
END:STANDARD
BEGIN:DAYLIGHT
TZOFFSETFROM:-0600
TZOFFSETTO:-0500
TZNAME:CDT
DTSTART:20260308T080000
END:DAYLIGHT
BEGIN:STANDARD
TZOFFSETFROM:-0500
TZOFFSETTO:-0600
TZNAME:CST
DTSTART:20261101T070000
END:STANDARD
BEGIN:DAYLIGHT
TZOFFSETFROM:-0600
TZOFFSETTO:-0500
TZNAME:CDT
DTSTART:20270314T080000
END:DAYLIGHT
BEGIN:STANDARD
TZOFFSETFROM:-0500
TZOFFSETTO:-0600
TZNAME:CST
DTSTART:20271107T070000
END:STANDARD
END:VTIMEZONE
BEGIN:VEVENT
DTSTART;TZID=America/Chicago:20260804T140000
DTEND;TZID=America/Chicago:20260804T160000
DTSTAMP:20260421T001132
CREATED:20260224T222807Z
LAST-MODIFIED:20260224T222807Z
UID:10011343-1785852000-1785859200@prairieplay.org
SUMMARY:Make-n-Take Tuesday
DESCRIPTION:Make and Take Tuesdays offer a rotating lineup of creative activities\, perfect for the whole family. Each week\, dive into a new hands-on project like clay\, painting\, tie-dye\, shrinky dinks\, printmaking\, and more. The fee adjusts based on the activity\, ensuring a fresh and fun experience every time. Come create something unique to take home and enjoy!  \n\nTuesday\, August 4: Tie-Dye T-Shirts ($20) \nTuesday\, August 11: Canvas Painting ($6) \nTuesday\, August 18: Fuse Beads ($3) 
URL:https://prairieplay.org/event/make-n-take-tuesday-3/2026-08-04/
CATEGORIES:Family,make n take
ATTACH;FMTTYPE=image/jpeg:https://prairieplay.org/wp-content/uploads/2024/08/make-n-take_tuesdays_carousel.jpg
END:VEVENT
END:VCALENDAR