BEGIN:VCALENDAR
VERSION:2.0
PRODID:-//Children&#039;s Museum of South Dakota - ECPv6.15.17.1//NONSGML v1.0//EN
CALSCALE:GREGORIAN
METHOD:PUBLISH
X-WR-CALNAME:Children&#039;s Museum of South Dakota
X-ORIGINAL-URL:https://prairieplay.org
X-WR-CALDESC:Events for Children&#039;s Museum of South Dakota
REFRESH-INTERVAL;VALUE=DURATION:PT1H
X-Robots-Tag:noindex
X-PUBLISHED-TTL:PT1H
BEGIN:VTIMEZONE
TZID:America/Chicago
BEGIN:DAYLIGHT
TZOFFSETFROM:-0600
TZOFFSETTO:-0500
TZNAME:CDT
DTSTART:20210314T080000
END:DAYLIGHT
BEGIN:STANDARD
TZOFFSETFROM:-0500
TZOFFSETTO:-0600
TZNAME:CST
DTSTART:20211107T070000
END:STANDARD
BEGIN:DAYLIGHT
TZOFFSETFROM:-0600
TZOFFSETTO:-0500
TZNAME:CDT
DTSTART:20220313T080000
END:DAYLIGHT
BEGIN:STANDARD
TZOFFSETFROM:-0500
TZOFFSETTO:-0600
TZNAME:CST
DTSTART:20221106T070000
END:STANDARD
BEGIN:DAYLIGHT
TZOFFSETFROM:-0600
TZOFFSETTO:-0500
TZNAME:CDT
DTSTART:20230312T080000
END:DAYLIGHT
BEGIN:STANDARD
TZOFFSETFROM:-0500
TZOFFSETTO:-0600
TZNAME:CST
DTSTART:20231105T070000
END:STANDARD
END:VTIMEZONE
BEGIN:VEVENT
DTSTART;TZID=America/Chicago:20220804T170000
DTEND;TZID=America/Chicago:20220804T190000
DTSTAMP:20260420T203747
CREATED:20210924T183548Z
LAST-MODIFIED:20221018T181758Z
UID:10003703-1659632400-1659639600@prairieplay.org
SUMMARY:First Thursday Member Evening Play
DESCRIPTION:Join us for special member hours! \nThe Museum exhibits will be open for play for our members until 7 pm. \nPlay Central Toys & Books will be offering a 20% discount on member purchases made that night.  Play along! \nPlease note: The Café will not be open during First Thursday until further notice.
URL:https://prairieplay.org/event/first-thursday-member-evening-play-10/2022-08-04/
CATEGORIES:Family,Grownup
ATTACH;FMTTYPE=image/jpeg:https://prairieplay.org/wp-content/uploads/2021/07/first-thursday-carousel.jpg
END:VEVENT
END:VCALENDAR