BEGIN:VCALENDAR
VERSION:2.0
PRODID:-//Children&#039;s Museum of South Dakota - ECPv6.15.17.1//NONSGML v1.0//EN
CALSCALE:GREGORIAN
METHOD:PUBLISH
X-WR-CALNAME:Children&#039;s Museum of South Dakota
X-ORIGINAL-URL:https://prairieplay.org
X-WR-CALDESC:Events for Children&#039;s Museum of South Dakota
REFRESH-INTERVAL;VALUE=DURATION:PT1H
X-Robots-Tag:noindex
X-PUBLISHED-TTL:PT1H
BEGIN:VTIMEZONE
TZID:America/Chicago
BEGIN:DAYLIGHT
TZOFFSETFROM:-0600
TZOFFSETTO:-0500
TZNAME:CDT
DTSTART:20240310T080000
END:DAYLIGHT
BEGIN:STANDARD
TZOFFSETFROM:-0500
TZOFFSETTO:-0600
TZNAME:CST
DTSTART:20241103T070000
END:STANDARD
BEGIN:DAYLIGHT
TZOFFSETFROM:-0600
TZOFFSETTO:-0500
TZNAME:CDT
DTSTART:20250309T080000
END:DAYLIGHT
BEGIN:STANDARD
TZOFFSETFROM:-0500
TZOFFSETTO:-0600
TZNAME:CST
DTSTART:20251102T070000
END:STANDARD
BEGIN:DAYLIGHT
TZOFFSETFROM:-0600
TZOFFSETTO:-0500
TZNAME:CDT
DTSTART:20260308T080000
END:DAYLIGHT
BEGIN:STANDARD
TZOFFSETFROM:-0500
TZOFFSETTO:-0600
TZNAME:CST
DTSTART:20261101T070000
END:STANDARD
END:VTIMEZONE
BEGIN:VEVENT
DTSTART;TZID=America/Chicago:20251205T170000
DTEND;TZID=America/Chicago:20251205T190000
DTSTAMP:20260423T170708
CREATED:20250910T185210Z
LAST-MODIFIED:20251124T214232Z
UID:21093-1764954000-1764961200@prairieplay.org
SUMMARY:Festival of Lights Pre-Parade Party
DESCRIPTION:Get your play in before heading to the 2025 Downtown Brookings Festival of Lights Parade. \nNo admission is needed\, but any donations made that night will be put toward our Access Fund. \nPlay along with us in the Museum exhibits! Also\, be sure to stop in the Art Studio to write a letter to Santa. Drop it in our mailbox and we will get it to the North Pole in time for Santa to make his list! \nMeet 2 of Santa’s reindeer on our front lawn from 5-7 pm\, too! \nThe Downtown Parade of Lights starts at 7 pm. Find more information on the Downtown Brookings webpage. \nOur Access Initiative helps ensure that every child and family has access to a high-quality children’s museum experience regardless of their ability to pay.
URL:https://prairieplay.org/event/festival-of-lights-pre-parade-party-25/
CATEGORIES:Family
ATTACH;FMTTYPE=image/jpeg:https://prairieplay.org/wp-content/uploads/2022/10/preparade-party-carousel.jpg
END:VEVENT
END:VCALENDAR