BEGIN:VCALENDAR
VERSION:2.0
PRODID:-//Children&#039;s Museum of South Dakota - ECPv6.15.17.1//NONSGML v1.0//EN
CALSCALE:GREGORIAN
METHOD:PUBLISH
X-WR-CALNAME:Children&#039;s Museum of South Dakota
X-ORIGINAL-URL:https://prairieplay.org
X-WR-CALDESC:Events for Children&#039;s Museum of South Dakota
REFRESH-INTERVAL;VALUE=DURATION:PT1H
X-Robots-Tag:noindex
X-PUBLISHED-TTL:PT1H
BEGIN:VTIMEZONE
TZID:America/Chicago
BEGIN:DAYLIGHT
TZOFFSETFROM:-0600
TZOFFSETTO:-0500
TZNAME:CDT
DTSTART:20180311T080000
END:DAYLIGHT
BEGIN:STANDARD
TZOFFSETFROM:-0500
TZOFFSETTO:-0600
TZNAME:CST
DTSTART:20181104T070000
END:STANDARD
BEGIN:DAYLIGHT
TZOFFSETFROM:-0600
TZOFFSETTO:-0500
TZNAME:CDT
DTSTART:20190310T080000
END:DAYLIGHT
BEGIN:STANDARD
TZOFFSETFROM:-0500
TZOFFSETTO:-0600
TZNAME:CST
DTSTART:20191103T070000
END:STANDARD
BEGIN:DAYLIGHT
TZOFFSETFROM:-0600
TZOFFSETTO:-0500
TZNAME:CDT
DTSTART:20200308T080000
END:DAYLIGHT
BEGIN:STANDARD
TZOFFSETFROM:-0500
TZOFFSETTO:-0600
TZNAME:CST
DTSTART:20201101T070000
END:STANDARD
END:VTIMEZONE
BEGIN:VEVENT
DTSTART;TZID=America/Chicago:20191116T090000
DTEND;TZID=America/Chicago:20191116T103000
DTSTAMP:20260420T223001
CREATED:20190919T183221Z
LAST-MODIFIED:20190919T183221Z
UID:10002481-1573894800-1573900200@prairieplay.org
SUMMARY:Coteau's Table Breakfast Series
DESCRIPTION:Join us for Cafe Coteau’s special event series\, Coteau’s Table! \nAt Coteau’s Table\, everyone is invited to explore flavorful cuisine from other parts of the world. Each event features a new menu. Come to one\, or come to all! \nSaturday\, Nov. 9 – Chinese\nCreamy Chicken Rice Porridge with Steamed Egg\, served with a Fried Donut Stick and Chinese Tea \nSaturday\, Nov. 16 – Norwegian\nSmoked Salmon Scrambled Eggs over Toast with a side of Fruit and Berry Risgøt Oats. Served with Norwegian style-coffee \nSaturday\, Nov. 23 – Israeli\nShakshuka comprised of a subtly Spicy Red Pepper and Tomato Sauce with Crumbled Feta. Topped with a Sunny Side Up Egg. Served with Warm Pita Bread and Israeli Tea \nReservations are required by calling (605) 692-6700\, ext. 1. Dietary accommodations\, including a vegetarian option\, available upon request. Note: the regular Café menu will not be served at this time due to the special event.
URL:https://prairieplay.org/event/coteaus-table-breakfast-series/2019-11-16/
CATEGORIES:Cafe Coteau,Family,Grownup,Preschool,School Age,Toddlers
ATTACH;FMTTYPE=image/jpeg:https://prairieplay.org/wp-content/uploads/2019/09/coteaus-table_carousel.jpg
END:VEVENT
END:VCALENDAR