BEGIN:VCALENDAR
VERSION:2.0
PRODID:-//Children&#039;s Museum of South Dakota - ECPv6.15.17.1//NONSGML v1.0//EN
CALSCALE:GREGORIAN
METHOD:PUBLISH
X-WR-CALNAME:Children&#039;s Museum of South Dakota
X-ORIGINAL-URL:https://prairieplay.org
X-WR-CALDESC:Events for Children&#039;s Museum of South Dakota
REFRESH-INTERVAL;VALUE=DURATION:PT1H
X-Robots-Tag:noindex
X-PUBLISHED-TTL:PT1H
BEGIN:VTIMEZONE
TZID:America/Chicago
BEGIN:DAYLIGHT
TZOFFSETFROM:-0600
TZOFFSETTO:-0500
TZNAME:CDT
DTSTART:20220313T080000
END:DAYLIGHT
BEGIN:STANDARD
TZOFFSETFROM:-0500
TZOFFSETTO:-0600
TZNAME:CST
DTSTART:20221106T070000
END:STANDARD
BEGIN:DAYLIGHT
TZOFFSETFROM:-0600
TZOFFSETTO:-0500
TZNAME:CDT
DTSTART:20230312T080000
END:DAYLIGHT
BEGIN:STANDARD
TZOFFSETFROM:-0500
TZOFFSETTO:-0600
TZNAME:CST
DTSTART:20231105T070000
END:STANDARD
BEGIN:DAYLIGHT
TZOFFSETFROM:-0600
TZOFFSETTO:-0500
TZNAME:CDT
DTSTART:20240310T080000
END:DAYLIGHT
BEGIN:STANDARD
TZOFFSETFROM:-0500
TZOFFSETTO:-0600
TZNAME:CST
DTSTART:20241103T070000
END:STANDARD
END:VTIMEZONE
BEGIN:VEVENT
DTSTART;TZID=America/Chicago:20230224T090000
DTEND;TZID=America/Chicago:20230224T100000
DTSTAMP:20260420T145911
CREATED:20230130T155208Z
LAST-MODIFIED:20230130T155208Z
UID:15309-1677229200-1677232800@prairieplay.org
SUMMARY:Child-Caregiver Play Group
DESCRIPTION:These FREE playgroups are designed for parents and caregivers to interact and build skills with their children through play. It also helps families connect with one another and valuable community resources. \nQuestions? Call Carrie Benson 605-692-6700 X236. \nThank you to Brookings Avera Behavioral Health\, tend playspace\, and  Brookings Area United Way for this partnership.
URL:https://prairieplay.org/event/child-caregiver-play-group-4/
CATEGORIES:Family,Toddlers
ATTACH;FMTTYPE=image/jpeg:https://prairieplay.org/wp-content/uploads/2022/01/caregiver-child-featured.jpg
END:VEVENT
END:VCALENDAR